BEGIN:VCALENDAR
VERSION:2.0
PRODID:-//North Simcoe Therapy Network - ECPv6.7.1//NONSGML v1.0//EN
CALSCALE:GREGORIAN
METHOD:PUBLISH
X-ORIGINAL-URL:https://www.midlandtherapy.com
X-WR-CALDESC:Events for North Simcoe Therapy Network
REFRESH-INTERVAL;VALUE=DURATION:PT1H
X-Robots-Tag:noindex
X-PUBLISHED-TTL:PT1H
BEGIN:VTIMEZONE
TZID:America/Toronto
BEGIN:DAYLIGHT
TZOFFSETFROM:-0500
TZOFFSETTO:-0400
TZNAME:EDT
DTSTART:20200308T070000
END:DAYLIGHT
BEGIN:STANDARD
TZOFFSETFROM:-0400
TZOFFSETTO:-0500
TZNAME:EST
DTSTART:20201101T060000
END:STANDARD
END:VTIMEZONE
BEGIN:VEVENT
DTSTART;TZID=America/Toronto:20200101T170000
DTEND;TZID=America/Toronto:20200108T180000
DTSTAMP:20260425T083534
CREATED:20190709T162642Z
LAST-MODIFIED:20210226T023257Z
UID:2283-1577898000-1578506400@www.midlandtherapy.com
SUMMARY:CBT Aftercare Group
DESCRIPTION:The CBT Aftercare Group welcomes everyone that has previously attended the CBT Group at the North Simcoe Therapy Network. This group provides support surrounding the concepts discussed during the CBT Group and reviews the chapters of the Mind Over Mood manual. As usual\, Sarah Durant and Dr. Ismail will be there to answer any questions that you may have as well as review to any topics or areas of concern that you wish to discuss. \nIf you are interested in participating in this group\, please email clinic@midlandtherapy.com for more information!
URL:https://www.midlandtherapy.com/schedule/cbt-review-group
LOCATION:North Simcoe Therapy Network – Hwy 93\, 8222 Hwy 93\, Tiny\, Ontario\, L0K 2E1\, Canada
CATEGORIES:Groups
ATTACH;FMTTYPE=image/jpeg:https://www.midlandtherapy.com/wp-content/uploads/brainstorming-campaign-collaborate-6224.jpg
END:VEVENT
BEGIN:VEVENT
DTSTART;TZID=America/Toronto:20200106T180000
DTEND;TZID=America/Toronto:20200113T191500
DTSTAMP:20260425T083534
CREATED:20190709T171827Z
LAST-MODIFIED:20210226T023426Z
UID:2301-1578333600-1578942900@www.midlandtherapy.com
SUMMARY:CBT Group
DESCRIPTION:Cognitive Behavioral Therapy (CBT) is a very well researched form of psychotherapy. CBT has shown to be effective in addressing depression\, anxiety\, anger\, eating disorders\, PTSD\, substance abuse and relationship problems. Each CBT Group runs for 12-weeks and is co-facilitated by a Registered Psychotherapist and a Psychiatrist. This group is covered by OHIP. A physician’s referral is required for attendance. \nPlease email clinic@midlandtherapy.com for more information.
URL:https://www.midlandtherapy.com/schedule/cbt-group-1-hwy-93-location-11
LOCATION:North Simcoe Therapy Network – Hwy 93\, 8222 Hwy 93\, Tiny\, Ontario\, L0K 2E1\, Canada
CATEGORIES:Groups
ATTACH;FMTTYPE=image/jpeg:https://www.midlandtherapy.com/wp-content/uploads/Woman-Thinking-at-dawn.jpg
END:VEVENT
BEGIN:VEVENT
DTSTART;TZID=America/Toronto:20200227T181500
DTEND;TZID=America/Toronto:20200227T191500
DTSTAMP:20260425T083534
CREATED:20190709T173500Z
LAST-MODIFIED:20210227T205825Z
UID:2313-1582827300-1582830900@www.midlandtherapy.com
SUMMARY:See Updates Tab
DESCRIPTION:See Updates Tab
URL:https://www.midlandtherapy.com/schedule/see-updates-tab
LOCATION:North Simcoe Therapy Network – Hwy 93\, 8222 Hwy 93\, Tiny\, Ontario\, L0K 2E1\, Canada
CATEGORIES:Groups
ATTACH;FMTTYPE=image/jpeg:https://www.midlandtherapy.com/wp-content/uploads/Woman-Thinking-at-dawn.jpg
END:VEVENT
END:VCALENDAR